BEGIN:VCALENDAR
VERSION:2.0
PRODID:-//wp-events-plugin.com//7.2.3.1//EN
TZID:Europe/Berlin
X-WR-TIMEZONE:Europe/Berlin
BEGIN:VEVENT
UID:68@event.hgv-obertshausen.de
DTSTART;TZID=Europe/Berlin:20220822T110000
DTEND;TZID=Europe/Berlin:20220822T170000
DTSTAMP:20220818T221400Z
URL:https://event.hgv-obertshausen.de/events/filzen/
SUMMARY:Filzen
DESCRIPTION:Wir tauchen in die traditionelle Technik des Filzens ein und la
 ssen Hohlkörper in Nass- und Trockentechnik entstehen\, die sich zum Tier
  oder einer Blume entwickeln können.\n\n\n\nMateralien und Arbeitsmittel 
 werden gestellt\, Essen und Trinken bringt jeder selbst mit.\n\nDer Unkost
 enbeitrag von 20\,- € wird am 22.08.2022 bar an die Kursleiterin Henriet
 te Fleck M.A. beglichen.\nDer Kurs findet ab einer Mindestanzahl von sechs
  Personen statt\, er ist für die Altersgruppe 6 bis 99 Jahre geeignet.\n\
 nLeider musste der Kurs wegen zu geringen Anmeldungen abgesagt werden.
ATTACH;FMTTYPE=image/jpeg:https://event.hgv-obertshausen.de/wp-content/upl
 oads/2022/07/IMG-20220719-WA0000-e1658753829930.jpg
CATEGORIES:Sommerferienprogramm
LOCATION:Werkstattmuseum "Karl-Mayer-Haus"\, Karl-Mayer-Straße 10\, Oberts
 hausen\, 63179\, Deutschland
X-APPLE-STRUCTURED-LOCATION;VALUE=URI;X-ADDRESS=Karl-Mayer-Straße 10\, Obe
 rtshausen\, 63179\, Deutschland;X-APPLE-RADIUS=100;X-TITLE=Werkstattmuseum
  \"Karl-Mayer-Haus\":geo:0,0
END:VEVENT
BEGIN:VTIMEZONE
TZID:Europe/Berlin
X-LIC-LOCATION:Europe/Berlin
BEGIN:DAYLIGHT
DTSTART:20220327T030000
TZOFFSETFROM:+0100
TZOFFSETTO:+0200
TZNAME:CEST
END:DAYLIGHT
END:VTIMEZONE
END:VCALENDAR